BEGIN:VCALENDAR
VERSION:2.0
PRODID:-//Orthodoxia.xyz//Weekly Calendar//EN
CALSCALE:GREGORIAN
METHOD:PUBLISH
X-WR-CALNAME:Orthodox Week W07 2026
X-WR-TIMEZONE:UTC
X-WR-CALDESC:Orthodox fasting and readings for week W07
BEGIN:VEVENT
UID:20260209@orthodoxia.xyz
DTSTAMP:20260208T095655Z
DTSTART;VALUE=DATE:20260209
DTEND;VALUE=DATE:20260210
SUMMARY:☦️ Monday of Meatfare\n🥩 Fast Free
DESCRIPTION:☦️ Monday of Meatfare\n🥩 Fast Free\n\n🕊️ Today's Ob
 servance\nLeavetaking of Meeting\nMartyr Nicephorus of Antioch\nRelics of 
 St Innocent of Irkutsk\nHieromartyr Peter of Damascus\, bishop of Damascus
 \n...and 1 more saints\n\n🍽️ What to Eat Today\nAll foods permitted. 
 No fasting restrictions today.\n\n📖 What to Read Today\nEpistle: 1 John
  2.18-3.10\nGospel: Mark 11.1-11
CATEGORIES:Orthodox,Fasting,Liturgical
TRANSP:TRANSPARENT
STATUS:CONFIRMED
END:VEVENT
BEGIN:VEVENT
UID:20260210@orthodoxia.xyz
DTSTAMP:20260208T095655Z
DTSTART;VALUE=DATE:20260210
DTEND;VALUE=DATE:20260211
SUMMARY:☦️ Tuesday of Meatfare\n🥩 Fast Free
DESCRIPTION:☦️ Tuesday of Meatfare\n🥩 Fast Free\n\n🕊️ Today's O
 bservance\nHieromartyr Haralambos\nHieromartyr Haralambos (Charalampus)\, 
 bishop of Magnesia\nSt Scholastica of Italy\, sister of St Benedict\nOur V
 enerable Father Prochorus of the Kiev Caves\n\n🍽️ What to Eat Today\n
 All foods permitted. No fasting restrictions today.\n\n📖 What to Read T
 oday\nEpistle: 1 John 3.10-20\nGospel: Mark 14.10-42
CATEGORIES:Orthodox,Fasting,Liturgical
TRANSP:TRANSPARENT
STATUS:CONFIRMED
END:VEVENT
BEGIN:VEVENT
UID:20260211@orthodoxia.xyz
DTSTAMP:20260208T095655Z
DTSTART;VALUE=DATE:20260211
DTEND;VALUE=DATE:20260212
SUMMARY:☦️ Wednesday of Meatfare\n🍅 Fast with No Exceptions
DESCRIPTION:☦️ Wednesday of Meatfare\n🍅 Fast with No Exceptions\n\n
 🕊️ Today's Observance\nHieromartyr Blaise of Sebaste\nVen. Dimitry of
  Priluk\nHieromartyr Blaise\, bishop of Sebaste\nSt Theodora the Empress\n
 \n🍽️ What to Eat Today\nNo meat\, fish\, dairy\, wine\, or oil. Bread
 \, vegetables\, fruits\, nuts\, legumes\, honey permitted.\n\n📖 What to
  Read Today\nEpistle: 1 John 3.21-4.6\nGospel: Mark 14.43-15.1
CATEGORIES:Orthodox,Fasting,Liturgical
TRANSP:TRANSPARENT
STATUS:CONFIRMED
END:VEVENT
BEGIN:VEVENT
UID:20260212@orthodoxia.xyz
DTSTAMP:20260208T095655Z
DTSTART;VALUE=DATE:20260212
DTEND;VALUE=DATE:20260213
SUMMARY:☦️ Thursday of Meatfare\n🥩 Fast Free
DESCRIPTION:☦️ Thursday of Meatfare\n🥩 Fast Free\n\n🕊️ Today's 
 Observance\nSt Meletius\, Archbishop of Antioch\nSt Aleksy\, Metr. of All 
 Russia\nSt Meletios\, archbishop of Antioch\n\n🍽️ What to Eat Today\n
 All foods permitted. No fasting restrictions today.\n\n📖 What to Read T
 oday\nEpistle: 1 John 4.20-5.21\nGospel: Mark 15.1-15
CATEGORIES:Orthodox,Fasting,Liturgical
TRANSP:TRANSPARENT
STATUS:CONFIRMED
END:VEVENT
BEGIN:VEVENT
UID:20260213@orthodoxia.xyz
DTSTAMP:20260208T095655Z
DTSTART;VALUE=DATE:20260213
DTEND;VALUE=DATE:20260214
SUMMARY:☦️ Friday of Meatfare\n🍅 Fast with No Exceptions
DESCRIPTION:☦️ Friday of Meatfare\n🍅 Fast with No Exceptions\n\n🕊
 ️ Today's Observance\nVen. Martinian of Caesarea\nHoly Apostles and Mart
 yrs Priscilla and Aquila\nSt Symeon the Myrrh-streamer\, founder of the Ch
 ilandar Monastery\n\n🍽️ What to Eat Today\nNo meat\, fish\, dairy\, w
 ine\, or oil. Bread\, vegetables\, fruits\, nuts\, legumes\, honey permitt
 ed.\n\n📖 What to Read Today\nEpistle: 2 John 1.1-13\nGospel: Mark 15.22
 \, 25\, 33-41
CATEGORIES:Orthodox,Fasting,Liturgical
TRANSP:TRANSPARENT
STATUS:CONFIRMED
END:VEVENT
BEGIN:VEVENT
UID:20260214@orthodoxia.xyz
DTSTAMP:20260208T095655Z
DTSTART;VALUE=DATE:20260214
DTEND;VALUE=DATE:20260215
SUMMARY:☦️ Saturday of Meatfare\n🥩 Fast Free
DESCRIPTION:☦️ Saturday of Meatfare\n🥩 Fast Free\n\n🕊️ Today's 
 Observance\nMemorial Saturday\nSt Cyril\, Teacher of the Slavs\nOur Holy F
 ather Auxentius\nWhat Happened to Valentine's Day?\n...and 1 more saints\n
 \n🍽️ What to Eat Today\nAll foods permitted. No fasting restrictions 
 today.\n\n📖 What to Read Today\nEpistle: 1 Corinthians 10.23-28\nGospel
 : Luke 21.8-9\, 25-27\, 33-36
CATEGORIES:Orthodox,Fasting,Liturgical
TRANSP:TRANSPARENT
STATUS:CONFIRMED
END:VEVENT
BEGIN:VEVENT
UID:20260215@orthodoxia.xyz
DTSTAMP:20260208T095655Z
DTSTART;VALUE=DATE:20260215
DTEND;VALUE=DATE:20260216
SUMMARY:☦️ Sunday of Meatfare\n🥩 Fast Free
DESCRIPTION:☦️ Sunday of Meatfare\n🥩 Fast Free\n\n🕊️ Today's Ob
 servance\nSunday of the Last Judgment\nApostle Onesimus of the Seventy\nOu
 r Venerable Father Dalmatius of Siberia\nOur Venerable Father Anthimos of 
 Chios\n\n🍽️ What to Eat Today\nAll foods permitted. No fasting restri
 ctions today.\n\n📖 What to Read Today\nEpistle: 1 Corinthians 8.8-9.2\n
 Gospel: Matthew 25.31-46
CATEGORIES:Orthodox,Fasting,Liturgical
TRANSP:TRANSPARENT
STATUS:CONFIRMED
END:VEVENT
END:VCALENDAR
