BEGIN:VCALENDAR
VERSION:2.0
PRODID:-//Orthodoxia.xyz//Weekly Calendar//EN
CALSCALE:GREGORIAN
METHOD:PUBLISH
X-WR-CALNAME:Orthodox Week W08 2026
X-WR-TIMEZONE:UTC
X-WR-CALDESC:Orthodox fasting and readings for week W08
BEGIN:VEVENT
UID:20260216@orthodoxia.xyz
DTSTAMP:20260214T115535Z
DTSTART;VALUE=DATE:20260216
DTEND;VALUE=DATE:20260217
SUMMARY:☦️ Monday of Cheesefare\n🥚 Eggs\, Dairy\, Fish\, Wine and Oi
 l are Allowed
DESCRIPTION:☦️ Monday of Cheesefare\n🥚 Eggs\, Dairy\, Fish\, Wine an
 d Oil are Allowed\n\n🕊️ Today's Observance\nMartyr Pamphylius and His
  Companions\n\n🍽️ What to Eat Today\nNo meat. Eggs\, dairy\, fish\, w
 ine\, and oil permitted.\n\n📖 What to Read Today\nEpistle: 3 John 1.1-1
 4\nGospel: Luke 19.29-40\, 22.7-39
CATEGORIES:Orthodox,Fasting,Liturgical
TRANSP:TRANSPARENT
STATUS:CONFIRMED
END:VEVENT
BEGIN:VEVENT
UID:20260217@orthodoxia.xyz
DTSTAMP:20260214T115535Z
DTSTART;VALUE=DATE:20260217
DTEND;VALUE=DATE:20260218
SUMMARY:☦️ Cheesefare Tuesday\n🥚 Eggs\, Dairy\, Fish\, Wine and Oil 
 are Allowed
DESCRIPTION:☦️ Cheesefare Tuesday\n🥚 Eggs\, Dairy\, Fish\, Wine and 
 Oil are Allowed\n\n🕊️ Today's Observance\nGreatmartyr Theodore Tyro\n
 Hieromartyr Germogen\, Patriarch of Moscow\n\n🍽️ What to Eat Today\nN
 o meat. Eggs\, dairy\, fish\, wine\, and oil permitted.\n\n📖 What to Re
 ad Today\nEpistle: Jude 1-10\nGospel: Luke 22.39-42\, 45-23.1
CATEGORIES:Orthodox,Fasting,Liturgical
TRANSP:TRANSPARENT
STATUS:CONFIRMED
END:VEVENT
BEGIN:VEVENT
UID:20260218@orthodoxia.xyz
DTSTAMP:20260214T115535Z
DTSTART;VALUE=DATE:20260218
DTEND;VALUE=DATE:20260219
SUMMARY:☦️ Cheesefare Wednesday\n🥚 Eggs\, Dairy\, Fish\, Wine and Oi
 l are Allowed
DESCRIPTION:☦️ Cheesefare Wednesday\n🥚 Eggs\, Dairy\, Fish\, Wine an
 d Oil are Allowed\n\n🕊️ Today's Observance\nSt Leo the Great\, Pope o
 f Rome\n\n🍽️ What to Eat Today\nNo meat. Eggs\, dairy\, fish\, wine\,
  and oil permitted.\n\n📖 What to Read Today\nNo readings assigned
CATEGORIES:Orthodox,Fasting,Liturgical
TRANSP:TRANSPARENT
STATUS:CONFIRMED
END:VEVENT
BEGIN:VEVENT
UID:20260219@orthodoxia.xyz
DTSTAMP:20260214T115535Z
DTSTART;VALUE=DATE:20260219
DTEND;VALUE=DATE:20260220
SUMMARY:☦️ Cheesefare Thursday\n🥚 Eggs\, Dairy\, Fish\, Wine and Oil
  are Allowed
DESCRIPTION:☦️ Cheesefare Thursday\n🥚 Eggs\, Dairy\, Fish\, Wine and
  Oil are Allowed\n\n🕊️ Today's Observance\nApostles of the Seventy Ar
 chippus and Philemon\nOur Venerable Mother Philothea of Athens\n\n🍽️ 
 What to Eat Today\nNo meat. Eggs\, dairy\, fish\, wine\, and oil permitted
 .\n\n📖 What to Read Today\nEpistle: Jude 11-25\nGospel: Luke 23.2-34\, 
 44-56
CATEGORIES:Orthodox,Fasting,Liturgical
TRANSP:TRANSPARENT
STATUS:CONFIRMED
END:VEVENT
BEGIN:VEVENT
UID:20260220@orthodoxia.xyz
DTSTAMP:20260214T115535Z
DTSTART;VALUE=DATE:20260220
DTEND;VALUE=DATE:20260221
SUMMARY:☦️ Cheesefare Friday\n🥚 Eggs\, Dairy\, Fish\, Wine and Oil a
 re Allowed
DESCRIPTION:☦️ Cheesefare Friday\n🥚 Eggs\, Dairy\, Fish\, Wine and O
 il are Allowed\n\n🕊️ Today's Observance\nSt Leo\, Bishop of Catania\n
 St Bessarion the Great\, wonder-worker of Egypt\nThirty-four Holy Martyrs 
 of the Monastery of Valaam\n\n🍽️ What to Eat Today\nNo meat. Eggs\, d
 airy\, fish\, wine\, and oil permitted.\n\n📖 What to Read Today\nNo rea
 dings assigned
CATEGORIES:Orthodox,Fasting,Liturgical
TRANSP:TRANSPARENT
STATUS:CONFIRMED
END:VEVENT
BEGIN:VEVENT
UID:20260221@orthodoxia.xyz
DTSTAMP:20260214T115535Z
DTSTART;VALUE=DATE:20260221
DTEND;VALUE=DATE:20260222
SUMMARY:☦️ Cheesefare Saturday\n🥚 Eggs\, Dairy\, Fish\, Wine and Oil
  are Allowed
DESCRIPTION:☦️ Cheesefare Saturday\n🥚 Eggs\, Dairy\, Fish\, Wine and
  Oil are Allowed\n\n🕊️ Today's Observance\nCommemoration of Departed 
 Righteous Monastics\nVen. Timothy of Symbola\nSt Eustathius\, archbishop o
 f Antioch\nSt John the Scholastic\, patriarch of Constantinople\n...and 1 
 more saints\n\n🍽️ What to Eat Today\nNo meat. Eggs\, dairy\, fish\, w
 ine\, and oil permitted.\n\n📖 What to Read Today\nEpistle: Romans 14.19
 -23\, 16.25-27\nGospel: Matthew 6.1-13
CATEGORIES:Orthodox,Fasting,Liturgical
TRANSP:TRANSPARENT
STATUS:CONFIRMED
END:VEVENT
BEGIN:VEVENT
UID:20260222@orthodoxia.xyz
DTSTAMP:20260214T115535Z
DTSTART;VALUE=DATE:20260222
DTEND;VALUE=DATE:20260223
SUMMARY:☦️ Sunday of Cheesefare: Expulsion of Adam from Paradise\n🥚 
 Eggs\, Dairy\, Fish\, Wine and Oil are Allowed
DESCRIPTION:☦️ Sunday of Cheesefare: Expulsion of Adam from Paradise\n
 🥚 Eggs\, Dairy\, Fish\, Wine and Oil are Allowed\n\n🕊️ Today's Obs
 ervance\nForgiveness Sunday\nUnc. Rel. Holy Martyrs at Gate of Eugenius\n\
 n🍽️ What to Eat Today\nNo meat. Eggs\, dairy\, fish\, wine\, and oil 
 permitted.\n\n📖 What to Read Today\nEpistle: Romans 13.11-14.4\nGospel:
  Matthew 6.14-21
CATEGORIES:Orthodox,Fasting,Liturgical
TRANSP:TRANSPARENT
STATUS:CONFIRMED
END:VEVENT
END:VCALENDAR
