BEGIN:VCALENDAR
VERSION:2.0
PRODID:-//Orthodoxia.xyz//Weekly Calendar//EN
CALSCALE:GREGORIAN
METHOD:PUBLISH
X-WR-CALNAME:Orthodox Week W09 2026
X-WR-TIMEZONE:UTC
X-WR-CALDESC:Orthodox fasting and readings for week W09
BEGIN:VEVENT
UID:20260223@orthodoxia.xyz
DTSTAMP:20260216T145845Z
DTSTART;VALUE=DATE:20260223
DTEND;VALUE=DATE:20260224
SUMMARY:☦️ Monday of the First Week of Lent\n🍅 Fast with No Exceptio
 ns
DESCRIPTION:☦️ Monday of the First Week of Lent\n🍅 Fast with No Exce
 ptions\n\n🕊️ Today's Observance\nBeginning of the Great Fast\nHieroma
 rtyr Polycarp\, Bishop of Smyrna\nSaint Gorgonia\nOur Venerable Father Ale
 xander the Unsleeping\n\n🍽️ What to Eat Today\nNo meat\, fish\, dairy
 \, wine\, or oil. Bread\, vegetables\, fruits\, nuts\, legumes\, honey per
 mitted.\n\n📖 What to Read Today\nNo readings assigned
CATEGORIES:Orthodox,Fasting,Liturgical
TRANSP:TRANSPARENT
STATUS:CONFIRMED
END:VEVENT
BEGIN:VEVENT
UID:20260224@orthodoxia.xyz
DTSTAMP:20260216T145845Z
DTSTART;VALUE=DATE:20260224
DTEND;VALUE=DATE:20260225
SUMMARY:☦️ Tuesday of the First Week of Lent\n🍅 Fast with No Excepti
 ons
DESCRIPTION:☦️ Tuesday of the First Week of Lent\n🍅 Fast with No Exc
 eptions\n\n🕊️ Today's Observance\n1st and 2nd Finding Honorable Head 
 of St John the Baptist\nSaint Aethelberht (Ethelbert)\, first Christian Ki
 ng of Kent\n\n🍽️ What to Eat Today\nNo meat\, fish\, dairy\, wine\, o
 r oil. Bread\, vegetables\, fruits\, nuts\, legumes\, honey permitted.\n\n
 📖 What to Read Today\nEpistle: 2 Corinthians 4.6-15\nGospel: Matthew 11
 .2-15
CATEGORIES:Orthodox,Fasting,Liturgical
TRANSP:TRANSPARENT
STATUS:CONFIRMED
END:VEVENT
BEGIN:VEVENT
UID:20260225@orthodoxia.xyz
DTSTAMP:20260216T145845Z
DTSTART;VALUE=DATE:20260225
DTEND;VALUE=DATE:20260226
SUMMARY:☦️ Wednesday of the First Week of Lent\n🍅 Fast with No Excep
 tions
DESCRIPTION:☦️ Wednesday of the First Week of Lent\n🍅 Fast with No E
 xceptions\n\n🕊️ Today's Observance\nSt Tarasius\, Abp. of Constantino
 ple\n\n🍽️ What to Eat Today\nNo meat\, fish\, dairy\, wine\, or oil. 
 Bread\, vegetables\, fruits\, nuts\, legumes\, honey permitted.\n\n📖 Wh
 at to Read Today\nNo readings assigned
CATEGORIES:Orthodox,Fasting,Liturgical
TRANSP:TRANSPARENT
STATUS:CONFIRMED
END:VEVENT
BEGIN:VEVENT
UID:20260226@orthodoxia.xyz
DTSTAMP:20260216T145845Z
DTSTART;VALUE=DATE:20260226
DTEND;VALUE=DATE:20260227
SUMMARY:☦️ Thursday of the First Week of Lent\n🍅 Fast with No Except
 ions
DESCRIPTION:☦️ Thursday of the First Week of Lent\n🍅 Fast with No Ex
 ceptions\n\n🕊️ Today's Observance\nSt Porphyrius\, Bishop of Gaza\nSt
  Photini the Samaritan Woman\, and those with her\n\n🍽️ What to Eat T
 oday\nNo meat\, fish\, dairy\, wine\, or oil. Bread\, vegetables\, fruits\
 , nuts\, legumes\, honey permitted.\n\n📖 What to Read Today\nNo reading
 s assigned
CATEGORIES:Orthodox,Fasting,Liturgical
TRANSP:TRANSPARENT
STATUS:CONFIRMED
END:VEVENT
BEGIN:VEVENT
UID:20260227@orthodoxia.xyz
DTSTAMP:20260216T145845Z
DTSTART;VALUE=DATE:20260227
DTEND;VALUE=DATE:20260228
SUMMARY:☦️ Friday of the First Week of Lent\n🍅 Fast with No Exceptio
 ns
DESCRIPTION:☦️ Friday of the First Week of Lent\n🍅 Fast with No Exce
 ptions\n\n🕊️ Today's Observance\nSt Raphael Bishop of Brooklyn\nOur H
 oly Father Procopius of Decapolis\nOur Venerable Father Titus of the Lavra
  of the Kiev Caves\nOur Holy Father Leander\, Bishop of Seville and Apostl
 e of Spain\n\n🍽️ What to Eat Today\nNo meat\, fish\, dairy\, wine\, o
 r oil. Bread\, vegetables\, fruits\, nuts\, legumes\, honey permitted.\n\n
 📖 What to Read Today\nEpistle: Hebrews 13.17-21\nGospel: John 10.9-16
CATEGORIES:Orthodox,Fasting,Liturgical
TRANSP:TRANSPARENT
STATUS:CONFIRMED
END:VEVENT
BEGIN:VEVENT
UID:20260228@orthodoxia.xyz
DTSTAMP:20260216T145845Z
DTSTART;VALUE=DATE:20260228
DTEND;VALUE=DATE:20260301
SUMMARY:☦️ First Saturday of Lent\n🫒 Wine and Oil are Allowed
DESCRIPTION:☦️ First Saturday of Lent\n🫒 Wine and Oil are Allowed\n\
 n🕊️ Today's Observance\nSt Theodore Tyro (the Recruit)\nVen. Basil th
 e Confessor\nBlessed Nicholas of Pskov\, fool for Christ\n\n🍽️ What t
 o Eat Today\nNo meat\, fish\, or dairy. Wine and oil permitted with vegeta
 bles\, fruits\, nuts\, legumes\, honey.\n\n📖 What to Read Today\nEpistl
 e: Hebrews 1.1-12\nGospel: Mark 2.23-3.5
CATEGORIES:Orthodox,Fasting,Liturgical
TRANSP:TRANSPARENT
STATUS:CONFIRMED
END:VEVENT
BEGIN:VEVENT
UID:20260301@orthodoxia.xyz
DTSTAMP:20260216T145845Z
DTSTART;VALUE=DATE:20260301
DTEND;VALUE=DATE:20260302
SUMMARY:☦️ First Sunday of Lent\n🫒 Wine and Oil are Allowed
DESCRIPTION:☦️ First Sunday of Lent\n🫒 Wine and Oil are Allowed\n\n
 🕊️ Today's Observance\nSunday of Orthodoxy\nMartyr Eudoxia of Heliopo
 lis\n\n🍽️ What to Eat Today\nNo meat\, fish\, or dairy. Wine and oil 
 permitted with vegetables\, fruits\, nuts\, legumes\, honey.\n\n📖 What 
 to Read Today\nEpistle: Hebrews 11.24-26\, 32-12.2\nGospel: John 1.43-51
CATEGORIES:Orthodox,Fasting,Liturgical
TRANSP:TRANSPARENT
STATUS:CONFIRMED
END:VEVENT
END:VCALENDAR
