BEGIN:VCALENDAR
VERSION:2.0
PRODID:-//Orthodoxia.xyz//Weekly Calendar//EN
CALSCALE:GREGORIAN
METHOD:PUBLISH
X-WR-CALNAME:Orthodox Week W10 2026
X-WR-TIMEZONE:UTC
X-WR-CALDESC:Orthodox fasting and readings for week W10
BEGIN:VEVENT
UID:20260302@orthodoxia.xyz
DTSTAMP:20260216T145845Z
DTSTART;VALUE=DATE:20260302
DTEND;VALUE=DATE:20260303
SUMMARY:☦️ Monday of the Second Week of Lent\n🍅 Fast with No Excepti
 ons
DESCRIPTION:☦️ Monday of the Second Week of Lent\n🍅 Fast with No Exc
 eptions\n\n🕊️ Today's Observance\nHieromartyr Theodotus\, Bishop of C
 yrenia\nSt Arseny\, Bishop of Tver\nThe Four Hundred and Forty Martyrs of 
 Lombardy\nHoly Martyr Euthalia\n\n🍽️ What to Eat Today\nNo meat\, fis
 h\, dairy\, wine\, or oil. Bread\, vegetables\, fruits\, nuts\, legumes\, 
 honey permitted.\n\n📖 What to Read Today\nNo readings assigned
CATEGORIES:Orthodox,Fasting,Liturgical
TRANSP:TRANSPARENT
STATUS:CONFIRMED
END:VEVENT
BEGIN:VEVENT
UID:20260303@orthodoxia.xyz
DTSTAMP:20260216T145845Z
DTSTART;VALUE=DATE:20260303
DTEND;VALUE=DATE:20260304
SUMMARY:☦️ Tuesday of the Second Week of Lent\n🍅 Fast with No Except
 ions
DESCRIPTION:☦️ Tuesday of the Second Week of Lent\n🍅 Fast with No Ex
 ceptions\n\n🕊️ Today's Observance\nMartyrs Eutropius\, Cleonicus and 
 Basiliscus\nAn Unknown Girl in Alexandria (?)\n\n🍽️ What to Eat Today
 \nNo meat\, fish\, dairy\, wine\, or oil. Bread\, vegetables\, fruits\, nu
 ts\, legumes\, honey permitted.\n\n📖 What to Read Today\nNo readings as
 signed
CATEGORIES:Orthodox,Fasting,Liturgical
TRANSP:TRANSPARENT
STATUS:CONFIRMED
END:VEVENT
BEGIN:VEVENT
UID:20260304@orthodoxia.xyz
DTSTAMP:20260216T145845Z
DTSTART;VALUE=DATE:20260304
DTEND;VALUE=DATE:20260305
SUMMARY:☦️ Wednesday of the Second Week of Lent\n🍅 Fast with No Exce
 ptions
DESCRIPTION:☦️ Wednesday of the Second Week of Lent\n🍅 Fast with No 
 Exceptions\n\n🕊️ Today's Observance\nVen. Gerasimus of the Jordan\nRt
 . Blv. Prince Daniel of Moscow\nSt James the Faster of Phoenecia\n\n🍽
 ️ What to Eat Today\nNo meat\, fish\, dairy\, wine\, or oil. Bread\, veg
 etables\, fruits\, nuts\, legumes\, honey permitted.\n\n📖 What to Read 
 Today\nNo readings assigned
CATEGORIES:Orthodox,Fasting,Liturgical
TRANSP:TRANSPARENT
STATUS:CONFIRMED
END:VEVENT
BEGIN:VEVENT
UID:20260305@orthodoxia.xyz
DTSTAMP:20260216T145845Z
DTSTART;VALUE=DATE:20260305
DTEND;VALUE=DATE:20260306
SUMMARY:☦️ Thursday of the Second Week of Lent\n🍅 Fast with No Excep
 tions
DESCRIPTION:☦️ Thursday of the Second Week of Lent\n🍅 Fast with No E
 xceptions\n\n🕊️ Today's Observance\nMartyr Conon of Isauria\nSt Mark 
 of Athens\nSt Mark the Ascetic\n\n🍽️ What to Eat Today\nNo meat\, fis
 h\, dairy\, wine\, or oil. Bread\, vegetables\, fruits\, nuts\, legumes\, 
 honey permitted.\n\n📖 What to Read Today\nNo readings assigned
CATEGORIES:Orthodox,Fasting,Liturgical
TRANSP:TRANSPARENT
STATUS:CONFIRMED
END:VEVENT
BEGIN:VEVENT
UID:20260306@orthodoxia.xyz
DTSTAMP:20260216T145845Z
DTSTART;VALUE=DATE:20260306
DTEND;VALUE=DATE:20260307
SUMMARY:☦️ Friday of the Second Week of Lent\n🍅 Fast with No Excepti
 ons
DESCRIPTION:☦️ Friday of the Second Week of Lent\n🍅 Fast with No Exc
 eptions\n\n🕊️ Today's Observance\nForty-two Martyrs of Ammoria\n\n
 🍽️ What to Eat Today\nNo meat\, fish\, dairy\, wine\, or oil. Bread\,
  vegetables\, fruits\, nuts\, legumes\, honey permitted.\n\n📖 What to R
 ead Today\nNo readings assigned
CATEGORIES:Orthodox,Fasting,Liturgical
TRANSP:TRANSPARENT
STATUS:CONFIRMED
END:VEVENT
BEGIN:VEVENT
UID:20260307@orthodoxia.xyz
DTSTAMP:20260216T145845Z
DTSTART;VALUE=DATE:20260307
DTEND;VALUE=DATE:20260308
SUMMARY:☦️ Second Saturday of Lent\n🫒 Wine and Oil are Allowed
DESCRIPTION:☦️ Second Saturday of Lent\n🫒 Wine and Oil are Allowed\n
 \n🕊️ Today's Observance\nMemorial Saturday\nSeven Hieromartyrs of Che
 rson\n\n🍽️ What to Eat Today\nNo meat\, fish\, or dairy. Wine and oil
  permitted with vegetables\, fruits\, nuts\, legumes\, honey.\n\n📖 What
  to Read Today\nEpistle: Hebrews 3.12-16\nGospel: Mark 1.35-44
CATEGORIES:Orthodox,Fasting,Liturgical
TRANSP:TRANSPARENT
STATUS:CONFIRMED
END:VEVENT
BEGIN:VEVENT
UID:20260308@orthodoxia.xyz
DTSTAMP:20260216T145845Z
DTSTART;VALUE=DATE:20260308
DTEND;VALUE=DATE:20260309
SUMMARY:☦️ Second Sunday of Lent\n🫒 Wine and Oil are Allowed
DESCRIPTION:☦️ Second Sunday of Lent\n🫒 Wine and Oil are Allowed\n\n
 🕊️ Today's Observance\nSt Gregory Palamas\nSt Theophylactus\, Bishop 
 of Nicomedia\nHieromartyr Theodoretus\n\n🍽️ What to Eat Today\nNo mea
 t\, fish\, or dairy. Wine and oil permitted with vegetables\, fruits\, nut
 s\, legumes\, honey.\n\n📖 What to Read Today\nEpistle: Hebrews 1.10-2.3
 \nGospel: Mark 2.1-12
CATEGORIES:Orthodox,Fasting,Liturgical
TRANSP:TRANSPARENT
STATUS:CONFIRMED
END:VEVENT
END:VCALENDAR
