BEGIN:VCALENDAR
VERSION:2.0
PRODID:-//Orthodoxia.xyz//Weekly Calendar//EN
CALSCALE:GREGORIAN
METHOD:PUBLISH
X-WR-CALNAME:Orthodox Week W11 2026
X-WR-TIMEZONE:UTC
X-WR-CALDESC:Orthodox fasting and readings for week W11
BEGIN:VEVENT
UID:20260309@orthodoxia.xyz
DTSTAMP:20260216T145845Z
DTSTART;VALUE=DATE:20260309
DTEND;VALUE=DATE:20260310
SUMMARY:☦️ Monday of the Third Week of Lent\n🍅 Fast with No Exceptio
 ns
DESCRIPTION:☦️ Monday of the Third Week of Lent\n🍅 Fast with No Exce
 ptions\n\n🕊️ Today's Observance\n1st and 2nd Finding Honorable Head o
 f St John the Baptist\nSaint Aethelberht (Ethelbert)\, first Christian Kin
 g of Kent\n\n🍽️ What to Eat Today\nNo meat\, fish\, dairy\, wine\, or
  oil. Bread\, vegetables\, fruits\, nuts\, legumes\, honey permitted.\n\n
 📖 What to Read Today\nEpistle: 2 Corinthians 4.6-15\nGospel: Matthew 11
 .2-15
CATEGORIES:Orthodox,Fasting,Liturgical
TRANSP:TRANSPARENT
STATUS:CONFIRMED
END:VEVENT
BEGIN:VEVENT
UID:20260310@orthodoxia.xyz
DTSTAMP:20260216T145845Z
DTSTART;VALUE=DATE:20260310
DTEND;VALUE=DATE:20260311
SUMMARY:☦️ Tuesday of the Third Week of Lent\n🍅 Fast with No Excepti
 ons
DESCRIPTION:☦️ Tuesday of the Third Week of Lent\n🍅 Fast with No Exc
 eptions\n\n🕊️ Today's Observance\nSt Tarasius\, Abp. of Constantinopl
 e\n\n🍽️ What to Eat Today\nNo meat\, fish\, dairy\, wine\, or oil. Br
 ead\, vegetables\, fruits\, nuts\, legumes\, honey permitted.\n\n📖 What
  to Read Today\nNo readings assigned
CATEGORIES:Orthodox,Fasting,Liturgical
TRANSP:TRANSPARENT
STATUS:CONFIRMED
END:VEVENT
BEGIN:VEVENT
UID:20260311@orthodoxia.xyz
DTSTAMP:20260216T145845Z
DTSTART;VALUE=DATE:20260311
DTEND;VALUE=DATE:20260312
SUMMARY:☦️ Wednesday of the Third Week of Lent\n🍅 Fast with No Excep
 tions
DESCRIPTION:☦️ Wednesday of the Third Week of Lent\n🍅 Fast with No E
 xceptions\n\n🕊️ Today's Observance\nSt Porphyrius\, Bishop of Gaza\nS
 t Photini the Samaritan Woman\, and those with her\n\n🍽️ What to Eat 
 Today\nNo meat\, fish\, dairy\, wine\, or oil. Bread\, vegetables\, fruits
 \, nuts\, legumes\, honey permitted.\n\n📖 What to Read Today\nNo readin
 gs assigned
CATEGORIES:Orthodox,Fasting,Liturgical
TRANSP:TRANSPARENT
STATUS:CONFIRMED
END:VEVENT
BEGIN:VEVENT
UID:20260312@orthodoxia.xyz
DTSTAMP:20260216T145845Z
DTSTART;VALUE=DATE:20260312
DTEND;VALUE=DATE:20260313
SUMMARY:☦️ Thursday of the Third Week of Lent\n🫒 Wine and Oil are Al
 lowed
DESCRIPTION:☦️ Thursday of the Third Week of Lent\n🫒 Wine and Oil ar
 e Allowed\n\n🕊️ Today's Observance\nSt Raphael Bishop of Brooklyn\nOu
 r Holy Father Procopius of Decapolis\nOur Venerable Father Titus of the La
 vra of the Kiev Caves\nOur Holy Father Leander\, Bishop of Seville and Apo
 stle of Spain\n\n🍽️ What to Eat Today\nNo meat\, fish\, or dairy. Win
 e and oil permitted with vegetables\, fruits\, nuts\, legumes\, honey.\n\n
 📖 What to Read Today\nEpistle: Hebrews 13.17-21\nGospel: John 10.9-16
CATEGORIES:Orthodox,Fasting,Liturgical
TRANSP:TRANSPARENT
STATUS:CONFIRMED
END:VEVENT
BEGIN:VEVENT
UID:20260313@orthodoxia.xyz
DTSTAMP:20260216T145845Z
DTSTART;VALUE=DATE:20260313
DTEND;VALUE=DATE:20260314
SUMMARY:☦️ Friday of the Third Week of Lent\n🍅 Fast with No Exceptio
 ns
DESCRIPTION:☦️ Friday of the Third Week of Lent\n🍅 Fast with No Exce
 ptions\n\n🕊️ Today's Observance\nVen. Basil the Confessor\nBlessed Ni
 cholas of Pskov\, fool for Christ\n\n🍽️ What to Eat Today\nNo meat\, 
 fish\, dairy\, wine\, or oil. Bread\, vegetables\, fruits\, nuts\, legumes
 \, honey permitted.\n\n📖 What to Read Today\nNo readings assigned
CATEGORIES:Orthodox,Fasting,Liturgical
TRANSP:TRANSPARENT
STATUS:CONFIRMED
END:VEVENT
BEGIN:VEVENT
UID:20260314@orthodoxia.xyz
DTSTAMP:20260216T145845Z
DTSTART;VALUE=DATE:20260314
DTEND;VALUE=DATE:20260315
SUMMARY:☦️ Third Saturday of Lent\n🫒 Wine and Oil are Allowed
DESCRIPTION:☦️ Third Saturday of Lent\n🫒 Wine and Oil are Allowed\n\
 n🕊️ Today's Observance\nMemorial Saturday\nMartyr Eudoxia of Heliopol
 is\n\n🍽️ What to Eat Today\nNo meat\, fish\, or dairy. Wine and oil p
 ermitted with vegetables\, fruits\, nuts\, legumes\, honey.\n\n📖 What t
 o Read Today\nEpistle: Hebrews 10.32-38\nGospel: Mark 2.14-17
CATEGORIES:Orthodox,Fasting,Liturgical
TRANSP:TRANSPARENT
STATUS:CONFIRMED
END:VEVENT
BEGIN:VEVENT
UID:20260315@orthodoxia.xyz
DTSTAMP:20260216T145845Z
DTSTART;VALUE=DATE:20260315
DTEND;VALUE=DATE:20260316
SUMMARY:☦️ Third Sunday of Lent\n🫒 Wine and Oil are Allowed
DESCRIPTION:☦️ Third Sunday of Lent\n🫒 Wine and Oil are Allowed\n\n
 🕊️ Today's Observance\nVeneration of the Precious Cross\nHieromartyr 
 Theodotus\, Bishop of Cyrenia\nSt Arseny\, Bishop of Tver\nThe Four Hundre
 d and Forty Martyrs of Lombardy\n...and 1 more saints\n\n🍽️ What to E
 at Today\nNo meat\, fish\, or dairy. Wine and oil permitted with vegetable
 s\, fruits\, nuts\, legumes\, honey.\n\n📖 What to Read Today\nEpistle: 
 Hebrews 4.14-5.6\nGospel: Mark 8.34-9.1
CATEGORIES:Orthodox,Fasting,Liturgical
TRANSP:TRANSPARENT
STATUS:CONFIRMED
END:VEVENT
END:VCALENDAR
