BEGIN:VCALENDAR
VERSION:2.0
PRODID:-//Orthodoxia.xyz//Weekly Calendar//EN
CALSCALE:GREGORIAN
METHOD:PUBLISH
X-WR-CALNAME:Orthodox Week W12 2026
X-WR-TIMEZONE:UTC
X-WR-CALDESC:Orthodox fasting and readings for week W12
BEGIN:VEVENT
UID:20260316@orthodoxia.xyz
DTSTAMP:20260216T145845Z
DTSTART;VALUE=DATE:20260316
DTEND;VALUE=DATE:20260317
SUMMARY:☦️ Monday of the Fourth Week of Lent\n🍅 Fast with No Excepti
 ons
DESCRIPTION:☦️ Monday of the Fourth Week of Lent\n🍅 Fast with No Exc
 eptions\n\n🕊️ Today's Observance\nMartyr Sabinas of Egypt\nOur Holy F
 ather Christodoulos\, Wonderworker of Patmos\nHoly Apostle Aristobulus of 
 the Seventy\, first Bishop of Britain\n\n🍽️ What to Eat Today\nNo mea
 t\, fish\, dairy\, wine\, or oil. Bread\, vegetables\, fruits\, nuts\, leg
 umes\, honey permitted.\n\n📖 What to Read Today\nNo readings assigned
CATEGORIES:Orthodox,Fasting,Liturgical
TRANSP:TRANSPARENT
STATUS:CONFIRMED
END:VEVENT
BEGIN:VEVENT
UID:20260317@orthodoxia.xyz
DTSTAMP:20260216T145845Z
DTSTART;VALUE=DATE:20260317
DTEND;VALUE=DATE:20260318
SUMMARY:☦️ Tuesday of the Fourth Week of Lent\n🍅 Fast with No Except
 ions
DESCRIPTION:☦️ Tuesday of the Fourth Week of Lent\n🍅 Fast with No Ex
 ceptions\n\n🕊️ Today's Observance\nVen. Alexius the Man of God\nVen. 
 Makary of Kalyazinsk\nSt Alexis\, the Man of God\nSt Patrick\, Enlightener
  of Ireland\n\n🍽️ What to Eat Today\nNo meat\, fish\, dairy\, wine\, 
 or oil. Bread\, vegetables\, fruits\, nuts\, legumes\, honey permitted.\n\
 n📖 What to Read Today\nNo readings assigned
CATEGORIES:Orthodox,Fasting,Liturgical
TRANSP:TRANSPARENT
STATUS:CONFIRMED
END:VEVENT
BEGIN:VEVENT
UID:20260318@orthodoxia.xyz
DTSTAMP:20260216T145845Z
DTSTART;VALUE=DATE:20260318
DTEND;VALUE=DATE:20260319
SUMMARY:☦️ Wednesday of the Fourth Week of Lent\n🍅 Fast with No Exce
 ptions
DESCRIPTION:☦️ Wednesday of the Fourth Week of Lent\n🍅 Fast with No 
 Exceptions\n\n🕊️ Today's Observance\nSt Cyril\, Archbishop of Jerusal
 em\nRep. St Nikolaj of Zhicha\nSt Ananias (Aninus) the Wonderworker (?)\nS
 aint Nikolai (Velimirovic)\, Bishop of Ochrid and Zica\, Serbia(March 5 OC
 )\n\n🍽️ What to Eat Today\nNo meat\, fish\, dairy\, wine\, or oil. Br
 ead\, vegetables\, fruits\, nuts\, legumes\, honey permitted.\n\n📖 What
  to Read Today\nNo readings assigned
CATEGORIES:Orthodox,Fasting,Liturgical
TRANSP:TRANSPARENT
STATUS:CONFIRMED
END:VEVENT
BEGIN:VEVENT
UID:20260319@orthodoxia.xyz
DTSTAMP:20260216T145845Z
DTSTART;VALUE=DATE:20260319
DTEND;VALUE=DATE:20260320
SUMMARY:☦️ Thursday of the Fourth Week of Lent\n🍅 Fast with No Excep
 tions
DESCRIPTION:☦️ Thursday of the Fourth Week of Lent\n🍅 Fast with No E
 xceptions\n\n🕊️ Today's Observance\nMartyrs Chrysanthius and Daria\n\
 n🍽️ What to Eat Today\nNo meat\, fish\, dairy\, wine\, or oil. Bread\
 , vegetables\, fruits\, nuts\, legumes\, honey permitted.\n\n📖 What to 
 Read Today\nNo readings assigned
CATEGORIES:Orthodox,Fasting,Liturgical
TRANSP:TRANSPARENT
STATUS:CONFIRMED
END:VEVENT
BEGIN:VEVENT
UID:20260320@orthodoxia.xyz
DTSTAMP:20260216T145845Z
DTSTART;VALUE=DATE:20260320
DTEND;VALUE=DATE:20260321
SUMMARY:☦️ Friday of the Fourth Week of Lent\n🍅 Fast with No Excepti
 ons
DESCRIPTION:☦️ Friday of the Fourth Week of Lent\n🍅 Fast with No Exc
 eptions\n\n🕊️ Today's Observance\nHoly Fathers Slain at St Sabbas Mon
 astery\nSt Photine the Samaritan Woman\nSt Cuthbert the Wonderworker\, Bis
 hop of Lindisfarne\n\n🍽️ What to Eat Today\nNo meat\, fish\, dairy\, 
 wine\, or oil. Bread\, vegetables\, fruits\, nuts\, legumes\, honey permit
 ted.\n\n📖 What to Read Today\nNo readings assigned
CATEGORIES:Orthodox,Fasting,Liturgical
TRANSP:TRANSPARENT
STATUS:CONFIRMED
END:VEVENT
BEGIN:VEVENT
UID:20260321@orthodoxia.xyz
DTSTAMP:20260216T145845Z
DTSTART;VALUE=DATE:20260321
DTEND;VALUE=DATE:20260322
SUMMARY:☦️ Fourth Saturday of Lent\n🫒 Wine and Oil are Allowed
DESCRIPTION:☦️ Fourth Saturday of Lent\n🫒 Wine and Oil are Allowed\n
 \n🕊️ Today's Observance\nMemorial Saturday\nSt James the Confessor of
  Catania\nOur Holy Father Serapion\n\n🍽️ What to Eat Today\nNo meat\,
  fish\, or dairy. Wine and oil permitted with vegetables\, fruits\, nuts\,
  legumes\, honey.\n\n📖 What to Read Today\nEpistle: Hebrews 6.9-12\nGos
 pel: Mark 7.31-37
CATEGORIES:Orthodox,Fasting,Liturgical
TRANSP:TRANSPARENT
STATUS:CONFIRMED
END:VEVENT
BEGIN:VEVENT
UID:20260322@orthodoxia.xyz
DTSTAMP:20260216T145845Z
DTSTART;VALUE=DATE:20260322
DTEND;VALUE=DATE:20260323
SUMMARY:☦️ Fourth Sunday of Lent\n🫒 Wine and Oil are Allowed
DESCRIPTION:☦️ Fourth Sunday of Lent\n🫒 Wine and Oil are Allowed\n\n
 🕊️ Today's Observance\nSt John Climacus\nHieromartyr Basil of Ancyra\
 nMartyr Drosida of Antioch\, and five nuns\n\n🍽️ What to Eat Today\nN
 o meat\, fish\, or dairy. Wine and oil permitted with vegetables\, fruits\
 , nuts\, legumes\, honey.\n\n📖 What to Read Today\nEpistle: Hebrews 6.1
 3-20\nGospel: Mark 9.17-31
CATEGORIES:Orthodox,Fasting,Liturgical
TRANSP:TRANSPARENT
STATUS:CONFIRMED
END:VEVENT
END:VCALENDAR
