BEGIN:VCALENDAR
VERSION:2.0
PRODID:-//Orthodoxia.xyz//Weekly Calendar//EN
CALSCALE:GREGORIAN
METHOD:PUBLISH
X-WR-CALNAME:Orthodox Week W13 2026
X-WR-TIMEZONE:UTC
X-WR-CALDESC:Orthodox fasting and readings for week W13
BEGIN:VEVENT
UID:20260323@orthodoxia.xyz
DTSTAMP:20260216T145845Z
DTSTART;VALUE=DATE:20260323
DTEND;VALUE=DATE:20260324
SUMMARY:☦️ Monday of the Fifth Week of Lent\n🍅 Fast with No Exceptio
 ns
DESCRIPTION:☦️ Monday of the Fifth Week of Lent\n🍅 Fast with No Exce
 ptions\n\n🕊️ Today's Observance\nMartyr Nikon and 199 Disciples\n\n
 🍽️ What to Eat Today\nNo meat\, fish\, dairy\, wine\, or oil. Bread\,
  vegetables\, fruits\, nuts\, legumes\, honey permitted.\n\n📖 What to R
 ead Today\nNo readings assigned
CATEGORIES:Orthodox,Fasting,Liturgical
TRANSP:TRANSPARENT
STATUS:CONFIRMED
END:VEVENT
BEGIN:VEVENT
UID:20260324@orthodoxia.xyz
DTSTAMP:20260216T145845Z
DTSTART;VALUE=DATE:20260324
DTEND;VALUE=DATE:20260325
SUMMARY:☦️ Tuesday of the Fifth Week of Lent\n🫒 Wine and Oil are All
 owed
DESCRIPTION:☦️ Tuesday of the Fifth Week of Lent\n🫒 Wine and Oil are
  Allowed\n\n🕊️ Today's Observance\nForefeast of Annunciation\nVen. Za
 chariah the Recluse\nSaint Zacharias the Recluse of Egypt\nCommemoration o
 f the Miracle at the Monastery of the Caves in Kiev (?)\n\n🍽️ What to
  Eat Today\nNo meat\, fish\, or dairy. Wine and oil permitted with vegetab
 les\, fruits\, nuts\, legumes\, honey.\n\n📖 What to Read Today\nNo read
 ings assigned
CATEGORIES:Orthodox,Fasting,Liturgical
TRANSP:TRANSPARENT
STATUS:CONFIRMED
END:VEVENT
BEGIN:VEVENT
UID:20260325@orthodoxia.xyz
DTSTAMP:20260216T145845Z
DTSTART;VALUE=DATE:20260325
DTEND;VALUE=DATE:20260326
SUMMARY:☦️ Wednesday of the Fifth Week of Lent\n🐟 Fish\, Wine and Oi
 l are Allowed
DESCRIPTION:☦️ Wednesday of the Fifth Week of Lent\n🐟 Fish\, Wine an
 d Oil are Allowed\n\n🕊️ Today's Observance\nAnnunciation Most Holy Th
 eotokos\nNew Confessor/Hieromartyr Tikhon\, patriarch of Moscow\n\n🍽️
  What to Eat Today\nNo meat or dairy. Fish\, wine\, and oil permitted with
  vegetables\, fruits\, nuts\, legumes.\n\n📖 What to Read Today\nEpistle
 : Hebrews 2.11-18\nGospel: Luke 1.24-38
CATEGORIES:Orthodox,Fasting,Liturgical
TRANSP:TRANSPARENT
STATUS:CONFIRMED
END:VEVENT
BEGIN:VEVENT
UID:20260326@orthodoxia.xyz
DTSTAMP:20260216T145845Z
DTSTART;VALUE=DATE:20260326
DTEND;VALUE=DATE:20260327
SUMMARY:☦️ Thursday of the Fifth Week of Lent\n🫒 Wine and Oil are Al
 lowed
DESCRIPTION:☦️ Thursday of the Fifth Week of Lent\n🫒 Wine and Oil ar
 e Allowed\n\n🕊️ Today's Observance\nGreat Canon of St Andrew of Crete
 \nPresanctified Liturgy\nLeavetaking of Annunciation\nSynaxis of Archangel
  Gabriel\n...and 1 more saints\n\n🍽️ What to Eat Today\nNo meat\, fis
 h\, or dairy. Wine and oil permitted with vegetables\, fruits\, nuts\, leg
 umes\, honey.\n\n📖 What to Read Today\nNo readings assigned
CATEGORIES:Orthodox,Fasting,Liturgical
TRANSP:TRANSPARENT
STATUS:CONFIRMED
END:VEVENT
BEGIN:VEVENT
UID:20260327@orthodoxia.xyz
DTSTAMP:20260216T145845Z
DTSTART;VALUE=DATE:20260327
DTEND;VALUE=DATE:20260328
SUMMARY:☦️ Friday of the Fifth Week of Lent\n🫒 Wine and Oil are Allo
 wed
DESCRIPTION:☦️ Friday of the Fifth Week of Lent\n🫒 Wine and Oil are 
 Allowed\n\n🕊️ Today's Observance\nMartyr Matrona of Thessalonica\n\n
 🍽️ What to Eat Today\nNo meat\, fish\, or dairy. Wine and oil permitt
 ed with vegetables\, fruits\, nuts\, legumes\, honey.\n\n📖 What to Read
  Today\nNo readings assigned
CATEGORIES:Orthodox,Fasting,Liturgical
TRANSP:TRANSPARENT
STATUS:CONFIRMED
END:VEVENT
BEGIN:VEVENT
UID:20260328@orthodoxia.xyz
DTSTAMP:20260216T145845Z
DTSTART;VALUE=DATE:20260328
DTEND;VALUE=DATE:20260329
SUMMARY:☦️ Fifth Saturday of Lent\n🫒 Wine and Oil are Allowed
DESCRIPTION:☦️ Fifth Saturday of Lent\n🫒 Wine and Oil are Allowed\n\
 n🕊️ Today's Observance\nSaturday of the Akathist to the Most-Holy The
 otokos\nVen. Hilarion the New\nRepose of Gerontissa Gavrilia (March 15 OC)
 \n\n🍽️ What to Eat Today\nNo meat\, fish\, or dairy. Wine and oil per
 mitted with vegetables\, fruits\, nuts\, legumes\, honey.\n\n📖 What to 
 Read Today\nEpistle: Hebrews 9.24-28\nGospel: Mark 8.27-31
CATEGORIES:Orthodox,Fasting,Liturgical
TRANSP:TRANSPARENT
STATUS:CONFIRMED
END:VEVENT
BEGIN:VEVENT
UID:20260329@orthodoxia.xyz
DTSTAMP:20260216T145845Z
DTSTART;VALUE=DATE:20260329
DTEND;VALUE=DATE:20260330
SUMMARY:☦️ Fifth Sunday of Lent\n🫒 Wine and Oil are Allowed
DESCRIPTION:☦️ Fifth Sunday of Lent\n🫒 Wine and Oil are Allowed\n\n
 🕊️ Today's Observance\nSt Mary of Egypt\nHieromartyr Mark\, Bishop of
  Anthusa\nOur Holy Father John the Hermit\n\n🍽️ What to Eat Today\nNo
  meat\, fish\, or dairy. Wine and oil permitted with vegetables\, fruits\,
  nuts\, legumes\, honey.\n\n📖 What to Read Today\nEpistle: Hebrews 9.11
 -14\nGospel: Mark 10.32-45
CATEGORIES:Orthodox,Fasting,Liturgical
TRANSP:TRANSPARENT
STATUS:CONFIRMED
END:VEVENT
END:VCALENDAR
