BEGIN:VCALENDAR
VERSION:2.0
PRODID:-//Orthodoxia.xyz//Weekly Calendar//EN
CALSCALE:GREGORIAN
METHOD:PUBLISH
X-WR-CALNAME:Orthodox Week W14 2026
X-WR-TIMEZONE:UTC
X-WR-CALDESC:Orthodox fasting and readings for week W14
BEGIN:VEVENT
UID:20260330@orthodoxia.xyz
DTSTAMP:20260216T145845Z
DTSTART;VALUE=DATE:20260330
DTEND;VALUE=DATE:20260331
SUMMARY:☦️ Monday of the Sixth Week of Lent\n🍅 Fast with No Exceptio
 ns
DESCRIPTION:☦️ Monday of the Sixth Week of Lent\n🍅 Fast with No Exce
 ptions\n\n🕊️ Today's Observance\nVen. John Climacus\nCommemoration of
  an Uncondemning Monk\n\n🍽️ What to Eat Today\nNo meat\, fish\, dairy
 \, wine\, or oil. Bread\, vegetables\, fruits\, nuts\, legumes\, honey per
 mitted.\n\n📖 What to Read Today\nNo readings assigned
CATEGORIES:Orthodox,Fasting,Liturgical
TRANSP:TRANSPARENT
STATUS:CONFIRMED
END:VEVENT
BEGIN:VEVENT
UID:20260331@orthodoxia.xyz
DTSTAMP:20260216T145845Z
DTSTART;VALUE=DATE:20260331
DTEND;VALUE=DATE:20260401
SUMMARY:☦️ Tuesday of the Sixth Week of Lent\n🍅 Fast with No Excepti
 ons
DESCRIPTION:☦️ Tuesday of the Sixth Week of Lent\n🍅 Fast with No Exc
 eptions\n\n🕊️ Today's Observance\nRepose St Innocent\, Metr. Moscow a
 nd Apostle to Americas\nHieromartyr Hypatius\, Bishop of Gangra\nSt Jonah\
 , Metropolitan of Moscow\n\n🍽️ What to Eat Today\nNo meat\, fish\, da
 iry\, wine\, or oil. Bread\, vegetables\, fruits\, nuts\, legumes\, honey 
 permitted.\n\n📖 What to Read Today\nEpistle: Hebrews 7.26-8.2\nGospel: 
 John 10.9-16
CATEGORIES:Orthodox,Fasting,Liturgical
TRANSP:TRANSPARENT
STATUS:CONFIRMED
END:VEVENT
BEGIN:VEVENT
UID:20260401@orthodoxia.xyz
DTSTAMP:20260216T145845Z
DTSTART;VALUE=DATE:20260401
DTEND;VALUE=DATE:20260402
SUMMARY:☦️ Wednesday of the Sixth Week of Lent\n🍅 Fast with No Excep
 tions
DESCRIPTION:☦️ Wednesday of the Sixth Week of Lent\n🍅 Fast with No E
 xceptions\n\n🕊️ Today's Observance\nVen. Euthymius of Suzdal\nOur Hol
 y Mother Mary of Egypt (4th-6th c.)\n\n🍽️ What to Eat Today\nNo meat\
 , fish\, dairy\, wine\, or oil. Bread\, vegetables\, fruits\, nuts\, legum
 es\, honey permitted.\n\n📖 What to Read Today\nNo readings assigned
CATEGORIES:Orthodox,Fasting,Liturgical
TRANSP:TRANSPARENT
STATUS:CONFIRMED
END:VEVENT
BEGIN:VEVENT
UID:20260402@orthodoxia.xyz
DTSTAMP:20260216T145845Z
DTSTART;VALUE=DATE:20260402
DTEND;VALUE=DATE:20260403
SUMMARY:☦️ Thursday of the Sixth Week of Lent\n🍅 Fast with No Except
 ions
DESCRIPTION:☦️ Thursday of the Sixth Week of Lent\n🍅 Fast with No Ex
 ceptions\n\n🕊️ Today's Observance\nVen. Titus the Wonderworker\nHoly 
 Martyrs Amphianus and Aedesius\n\n🍽️ What to Eat Today\nNo meat\, fis
 h\, dairy\, wine\, or oil. Bread\, vegetables\, fruits\, nuts\, legumes\, 
 honey permitted.\n\n📖 What to Read Today\nNo readings assigned
CATEGORIES:Orthodox,Fasting,Liturgical
TRANSP:TRANSPARENT
STATUS:CONFIRMED
END:VEVENT
BEGIN:VEVENT
UID:20260403@orthodoxia.xyz
DTSTAMP:20260216T145845Z
DTSTART;VALUE=DATE:20260403
DTEND;VALUE=DATE:20260404
SUMMARY:☦️ Friday of the Sixth Week of Lent\n🍅 Fast with No Exceptio
 ns
DESCRIPTION:☦️ Friday of the Sixth Week of Lent\n🍅 Fast with No Exce
 ptions\n\n🕊️ Today's Observance\nVen. Nicetas the Confessor\nSaint Jo
 seph the Hymnographer\nSaint Seraphim of Vyritsa (March 21 OC)\n\n🍽️ 
 What to Eat Today\nNo meat\, fish\, dairy\, wine\, or oil. Bread\, vegetab
 les\, fruits\, nuts\, legumes\, honey permitted.\n\n📖 What to Read Toda
 y\nNo readings assigned
CATEGORIES:Orthodox,Fasting,Liturgical
TRANSP:TRANSPARENT
STATUS:CONFIRMED
END:VEVENT
BEGIN:VEVENT
UID:20260404@orthodoxia.xyz
DTSTAMP:20260216T145845Z
DTSTART;VALUE=DATE:20260404
DTEND;VALUE=DATE:20260405
SUMMARY:☦️ Lazarus Saturday\n🫧 Caviar\, Wine and Oil are Allowed
DESCRIPTION:☦️ Lazarus Saturday\n🫧 Caviar\, Wine and Oil are Allowed
 \n\n🕊️ Today's Observance\nVen. Joseph the Hymnographer\nSt Zosimas\,
  monk\, of Palestine\n\n🍽️ What to Eat Today\nNo meat\, fish\, or dai
 ry. Caviar (fish roe)\, wine\, and oil permitted with vegetables and legum
 es.\n\n📖 What to Read Today\nEpistle: Hebrews 12.28-13.8\nGospel: John 
 11.1-45
CATEGORIES:Orthodox,Fasting,Liturgical
TRANSP:TRANSPARENT
STATUS:CONFIRMED
END:VEVENT
BEGIN:VEVENT
UID:20260405@orthodoxia.xyz
DTSTAMP:20260216T145845Z
DTSTART;VALUE=DATE:20260405
DTEND;VALUE=DATE:20260406
SUMMARY:☦️ Palm Sunday: Entrance of Our Lord into Jerusalem\n🐟 Fish\
 , Wine and Oil are Allowed
DESCRIPTION:☦️ Palm Sunday: Entrance of Our Lord into Jerusalem\n🐟 F
 ish\, Wine and Oil are Allowed\n\n🕊️ Today's Observance\nMartyrs Agat
 hopedes\, Theodulus and Their Companions\nOur Holy Father Mark of Trache\n
 \n🍽️ What to Eat Today\nNo meat or dairy. Fish\, wine\, and oil permi
 tted with vegetables\, fruits\, nuts\, legumes.\n\n📖 What to Read Today
 \nEpistle: Philippians 4.4-9\nGospel: John 12.1-18
CATEGORIES:Orthodox,Fasting,Liturgical
TRANSP:TRANSPARENT
STATUS:CONFIRMED
END:VEVENT
END:VCALENDAR
