BEGIN:VCALENDAR
VERSION:2.0
PRODID:-//Orthodoxia.xyz//Weekly Calendar//EN
CALSCALE:GREGORIAN
METHOD:PUBLISH
X-WR-CALNAME:Orthodox Week W15 2026
X-WR-TIMEZONE:UTC
X-WR-CALDESC:Orthodox fasting and readings for week W15
BEGIN:VEVENT
UID:20260406@orthodoxia.xyz
DTSTAMP:20260216T145845Z
DTSTART;VALUE=DATE:20260406
DTEND;VALUE=DATE:20260407
SUMMARY:☦️ Great and Holy Monday\n🍅 Fast with No Exceptions
DESCRIPTION:☦️ Great and Holy Monday\n🍅 Fast with No Exceptions\n\n
 🕊️ Today's Observance\nForefeast of Annunciation\nVen. Zachariah the 
 Recluse\nSaint Zacharias the Recluse of Egypt\nCommemoration of the Miracl
 e at the Monastery of the Caves in Kiev (?)\n\n🍽️ What to Eat Today\n
 No meat\, fish\, dairy\, wine\, or oil. Bread\, vegetables\, fruits\, nuts
 \, legumes\, honey permitted.\n\n📖 What to Read Today\nGospel: Matthew 
 21.18-43
CATEGORIES:Orthodox,Fasting,Liturgical
TRANSP:TRANSPARENT
STATUS:CONFIRMED
END:VEVENT
BEGIN:VEVENT
UID:20260407@orthodoxia.xyz
DTSTAMP:20260216T145845Z
DTSTART;VALUE=DATE:20260407
DTEND;VALUE=DATE:20260408
SUMMARY:☦️ Great and Holy Tuesday\n🍅 Fast with No Exceptions
DESCRIPTION:☦️ Great and Holy Tuesday\n🍅 Fast with No Exceptions\n\n
 🕊️ Today's Observance\nAnnunciation Most Holy Theotokos\nNew Confesso
 r/Hieromartyr Tikhon\, patriarch of Moscow\n\n🍽️ What to Eat Today\nN
 o meat\, fish\, dairy\, wine\, or oil. Bread\, vegetables\, fruits\, nuts\
 , legumes\, honey permitted.\n\n📖 What to Read Today\nEpistle: Hebrews 
 2.11-18\nGospel: Matthew 22.15-23.39
CATEGORIES:Orthodox,Fasting,Liturgical
TRANSP:TRANSPARENT
STATUS:CONFIRMED
END:VEVENT
BEGIN:VEVENT
UID:20260408@orthodoxia.xyz
DTSTAMP:20260216T145845Z
DTSTART;VALUE=DATE:20260408
DTEND;VALUE=DATE:20260409
SUMMARY:☦️ Great and Holy Wednesday\n🍅 Fast with No Exceptions
DESCRIPTION:☦️ Great and Holy Wednesday\n🍅 Fast with No Exceptions\n
 \n🕊️ Today's Observance\nLeavetaking of Annunciation\nSynaxis of Arch
 angel Gabriel\nSynaxis of the Archangel Gabriel\n\n🍽️ What to Eat Tod
 ay\nNo meat\, fish\, dairy\, wine\, or oil. Bread\, vegetables\, fruits\, 
 nuts\, legumes\, honey permitted.\n\n📖 What to Read Today\nEpistle: Heb
 rews 2.11-18\nGospel: John 12.17-50
CATEGORIES:Orthodox,Fasting,Liturgical
TRANSP:TRANSPARENT
STATUS:CONFIRMED
END:VEVENT
BEGIN:VEVENT
UID:20260409@orthodoxia.xyz
DTSTAMP:20260216T145845Z
DTSTART;VALUE=DATE:20260409
DTEND;VALUE=DATE:20260410
SUMMARY:☦️ Great and Holy Thursday\n🫒 Wine and Oil are Allowed
DESCRIPTION:☦️ Great and Holy Thursday\n🫒 Wine and Oil are Allowed\n
 \n🕊️ Today's Observance\nMartyr Matrona of Thessalonica\n\n🍽️ Wh
 at to Eat Today\nNo meat\, fish\, or dairy. Wine and oil permitted with ve
 getables\, fruits\, nuts\, legumes\, honey.\n\n📖 What to Read Today\nEp
 istle: 1 Corinthians 11.23-32\nGospel: Luke 22.1-39
CATEGORIES:Orthodox,Fasting,Liturgical
TRANSP:TRANSPARENT
STATUS:CONFIRMED
END:VEVENT
BEGIN:VEVENT
UID:20260410@orthodoxia.xyz
DTSTAMP:20260216T145845Z
DTSTART;VALUE=DATE:20260410
DTEND;VALUE=DATE:20260411
SUMMARY:☦️ Great and Holy Friday\n💧 Strict Fast
DESCRIPTION:☦️ Great and Holy Friday\n💧 Strict Fast\n\n🕊️ Today
 's Observance\nVen. Hilarion the New\nRepose of Gerontissa Gavrilia (March
  15 OC)\n\n🍽️ What to Eat Today\nComplete abstinence from all food an
 d drink until after the service.\n\n📖 What to Read Today\nEpistle: 1 Co
 rinthians 1.18-2.2\nGospel: Matthew 27.1-38\; Luke 23:39-43\; Matt 27:39-5
 4\; John 19:31-37\; Matt 27:55-61
CATEGORIES:Orthodox,Fasting,Liturgical
TRANSP:TRANSPARENT
STATUS:CONFIRMED
END:VEVENT
BEGIN:VEVENT
UID:20260411@orthodoxia.xyz
DTSTAMP:20260216T145845Z
DTSTART;VALUE=DATE:20260411
DTEND;VALUE=DATE:20260412
SUMMARY:☦️ Great and Holy Saturday\n🍷 Wine is Allowed
DESCRIPTION:☦️ Great and Holy Saturday\n🍷 Wine is Allowed\n\n🕊️
  Today's Observance\nHieromartyr Mark\, Bishop of Anthusa\nOur Holy Father
  John the Hermit\n\n🍽️ What to Eat Today\nNo meat\, fish\, dairy\, or
  oil. Wine permitted with vegetables\, fruits\, nuts\, legumes\, honey.\n\
 n📖 What to Read Today\nEpistle: Romans 6.3-11\nGospel: Matthew 28.1-20
CATEGORIES:Orthodox,Fasting,Liturgical
TRANSP:TRANSPARENT
STATUS:CONFIRMED
END:VEVENT
BEGIN:VEVENT
UID:20260412@orthodoxia.xyz
DTSTAMP:20260216T145845Z
DTSTART;VALUE=DATE:20260412
DTEND;VALUE=DATE:20260413
SUMMARY:☦️ Holy Pascha\n🥩 Fast Free
DESCRIPTION:☦️ Holy Pascha\n🥩 Fast Free\n\n🕊️ Today's Observanc
 e\nThe Resurrection of our Lord and Savior Jesus Christ\nBeginning of the 
 Pentecostarion\nVen. John Climacus\nCommemoration of an Uncondemning Monk\
 n\n🍽️ What to Eat Today\nAll foods permitted. No fasting restrictions
  today.\n\n📖 What to Read Today\nEpistle: Acts 1.1-8\nGospel: John 1.1-
 17
CATEGORIES:Orthodox,Fasting,Liturgical
TRANSP:TRANSPARENT
STATUS:CONFIRMED
END:VEVENT
END:VCALENDAR
