BEGIN:VCALENDAR
VERSION:2.0
PRODID:-//Orthodoxia.xyz//Weekly Calendar//EN
CALSCALE:GREGORIAN
METHOD:PUBLISH
X-WR-CALNAME:Orthodox Week W16 2026
X-WR-TIMEZONE:UTC
X-WR-CALDESC:Orthodox fasting and readings for week W16
BEGIN:VEVENT
UID:20260413@orthodoxia.xyz
DTSTAMP:20260216T145845Z
DTSTART;VALUE=DATE:20260413
DTEND;VALUE=DATE:20260414
SUMMARY:☦️ Bright Monday\n🥩 Fast Free
DESCRIPTION:☦️ Bright Monday\n🥩 Fast Free\n\n🕊️ Today's Observa
 nce\nRepose St Innocent\, Metr. Moscow and Apostle to Americas\nHieromarty
 r Hypatius\, Bishop of Gangra\nSt Jonah\, Metropolitan of Moscow\n\n🍽
 ️ What to Eat Today\nAll foods permitted. No fasting restrictions today.
 \n\n📖 What to Read Today\nEpistle: Acts 1.12-17\, 21-26\nGospel: John 1
 .18-28
CATEGORIES:Orthodox,Fasting,Liturgical
TRANSP:TRANSPARENT
STATUS:CONFIRMED
END:VEVENT
BEGIN:VEVENT
UID:20260414@orthodoxia.xyz
DTSTAMP:20260216T145845Z
DTSTART;VALUE=DATE:20260414
DTEND;VALUE=DATE:20260415
SUMMARY:☦️ Bright Tuesday\n🥩 Fast Free
DESCRIPTION:☦️ Bright Tuesday\n🥩 Fast Free\n\n🕊️ Today's Observ
 ance\nVen. Euthymius of Suzdal\nOur Holy Mother Mary of Egypt (4th-6th c.)
 \n\n🍽️ What to Eat Today\nAll foods permitted. No fasting restriction
 s today.\n\n📖 What to Read Today\nEpistle: Acts 2.14-21\nGospel: Luke 2
 4.12-35
CATEGORIES:Orthodox,Fasting,Liturgical
TRANSP:TRANSPARENT
STATUS:CONFIRMED
END:VEVENT
BEGIN:VEVENT
UID:20260415@orthodoxia.xyz
DTSTAMP:20260216T145845Z
DTSTART;VALUE=DATE:20260415
DTEND;VALUE=DATE:20260416
SUMMARY:☦️ Bright Wednesday\n🥩 Fast Free
DESCRIPTION:☦️ Bright Wednesday\n🥩 Fast Free\n\n🕊️ Today's Obse
 rvance\nVen. Titus the Wonderworker\nHoly Martyrs Amphianus and Aedesius\n
 \n🍽️ What to Eat Today\nAll foods permitted. No fasting restrictions 
 today.\n\n📖 What to Read Today\nEpistle: Acts 2.22-36\nGospel: John 1.3
 5-51
CATEGORIES:Orthodox,Fasting,Liturgical
TRANSP:TRANSPARENT
STATUS:CONFIRMED
END:VEVENT
BEGIN:VEVENT
UID:20260416@orthodoxia.xyz
DTSTAMP:20260216T145845Z
DTSTART;VALUE=DATE:20260416
DTEND;VALUE=DATE:20260417
SUMMARY:☦️ Bright Thursday\n🥩 Fast Free
DESCRIPTION:☦️ Bright Thursday\n🥩 Fast Free\n\n🕊️ Today's Obser
 vance\nVen. Nicetas the Confessor\nSaint Joseph the Hymnographer\nSaint Se
 raphim of Vyritsa (March 21 OC)\n\n🍽️ What to Eat Today\nAll foods pe
 rmitted. No fasting restrictions today.\n\n📖 What to Read Today\nEpistl
 e: Acts 2.38-43\nGospel: John 3.1-15
CATEGORIES:Orthodox,Fasting,Liturgical
TRANSP:TRANSPARENT
STATUS:CONFIRMED
END:VEVENT
BEGIN:VEVENT
UID:20260417@orthodoxia.xyz
DTSTAMP:20260216T145845Z
DTSTART;VALUE=DATE:20260417
DTEND;VALUE=DATE:20260418
SUMMARY:☦️ Bright Friday\n🥩 Fast Free
DESCRIPTION:☦️ Bright Friday\n🥩 Fast Free\n\n🕊️ Today's Observa
 nce\nThe Life-Giving Spring of the Most-holy Theotokos\nVen. Joseph the Hy
 mnographer\nSt Zosimas\, monk\, of Palestine\n\n🍽️ What to Eat Today\
 nAll foods permitted. No fasting restrictions today.\n\n📖 What to Read 
 Today\nEpistle: Acts 3.1-8\nGospel: John 2.12-22
CATEGORIES:Orthodox,Fasting,Liturgical
TRANSP:TRANSPARENT
STATUS:CONFIRMED
END:VEVENT
BEGIN:VEVENT
UID:20260418@orthodoxia.xyz
DTSTAMP:20260216T145845Z
DTSTART;VALUE=DATE:20260418
DTEND;VALUE=DATE:20260419
SUMMARY:☦️ Bright Saturday\n🥩 Fast Free
DESCRIPTION:☦️ Bright Saturday\n🥩 Fast Free\n\n🕊️ Today's Obser
 vance\nMartyrs Agathopedes\, Theodulus and Their Companions\nOur Holy Fath
 er Mark of Trache\n\n🍽️ What to Eat Today\nAll foods permitted. No fa
 sting restrictions today.\n\n📖 What to Read Today\nEpistle: Acts 3.11-1
 6\nGospel: John 3.22-33
CATEGORIES:Orthodox,Fasting,Liturgical
TRANSP:TRANSPARENT
STATUS:CONFIRMED
END:VEVENT
BEGIN:VEVENT
UID:20260419@orthodoxia.xyz
DTSTAMP:20260216T145845Z
DTSTART;VALUE=DATE:20260419
DTEND;VALUE=DATE:20260420
SUMMARY:☦️ Antipascha: 2nd Sunday of Pascha\n🥩 Fast Free
DESCRIPTION:☦️ Antipascha: 2nd Sunday of Pascha\n🥩 Fast Free\n\n🕊
 ️ Today's Observance\nSt Thomas Sunday\nSt Methodius\, Enilightener of t
 he Slavs\nSt Eutychius\, patriarch of Constantinople\n\n🍽️ What to Ea
 t Today\nAll foods permitted. No fasting restrictions today.\n\n📖 What 
 to Read Today\nEpistle: Acts 5.12-20\nGospel: John 20.19-31
CATEGORIES:Orthodox,Fasting,Liturgical
TRANSP:TRANSPARENT
STATUS:CONFIRMED
END:VEVENT
END:VCALENDAR
