BEGIN:VCALENDAR
VERSION:2.0
PRODID:-//Orthodoxia.xyz//Weekly Calendar//EN
CALSCALE:GREGORIAN
METHOD:PUBLISH
X-WR-CALNAME:Orthodox Week W17 2026
X-WR-TIMEZONE:UTC
X-WR-CALDESC:Orthodox fasting and readings for week W17
BEGIN:VEVENT
UID:20260420@orthodoxia.xyz
DTSTAMP:20260216T145845Z
DTSTART;VALUE=DATE:20260420
DTEND;VALUE=DATE:20260421
SUMMARY:☦️ Monday of the 2nd Sunday of Pascha\n🥩 Fast Free
DESCRIPTION:☦️ Monday of the 2nd Sunday of Pascha\n🥩 Fast Free\n\n
 🕊️ Today's Observance\nVen. Theodore Trichinas\nHoly Apostle Zaccheus
 \n\n🍽️ What to Eat Today\nAll foods permitted. No fasting restriction
 s today.\n\n📖 What to Read Today\nEpistle: Acts 3.19-26\nGospel: John 2
 .1-11
CATEGORIES:Orthodox,Fasting,Liturgical
TRANSP:TRANSPARENT
STATUS:CONFIRMED
END:VEVENT
BEGIN:VEVENT
UID:20260421@orthodoxia.xyz
DTSTAMP:20260216T145845Z
DTSTART;VALUE=DATE:20260421
DTEND;VALUE=DATE:20260422
SUMMARY:☦️ Tuesday of the 2nd Sunday of Pascha\n🥩 Fast Free
DESCRIPTION:☦️ Tuesday of the 2nd Sunday of Pascha\n🥩 Fast Free\n\n
 🕊️ Today's Observance\nDay of Rejoicing (Radonitsa)\nHieromartyr Janu
 arius and Companions\n\n🍽️ What to Eat Today\nAll foods permitted. No
  fasting restrictions today.\n\n📖 What to Read Today\nEpistle: Acts 4.1
 -10\nGospel: John 3.16-21
CATEGORIES:Orthodox,Fasting,Liturgical
TRANSP:TRANSPARENT
STATUS:CONFIRMED
END:VEVENT
BEGIN:VEVENT
UID:20260422@orthodoxia.xyz
DTSTAMP:20260216T145845Z
DTSTART;VALUE=DATE:20260422
DTEND;VALUE=DATE:20260423
SUMMARY:☦️ Wednesday of the 2nd Sunday of Pascha\n🫒 Wine and Oil are
  Allowed
DESCRIPTION:☦️ Wednesday of the 2nd Sunday of Pascha\n🫒 Wine and Oil
  are Allowed\n\n🕊️ Today's Observance\nSt Theodore the Sykeote\nHoly 
 Martyr Leonidas\nOur Holy Father\, the monk Vitalis\n\n🍽️ What to Eat
  Today\nNo meat\, fish\, or dairy. Wine and oil permitted with vegetables\
 , fruits\, nuts\, legumes\, honey.\n\n📖 What to Read Today\nEpistle: Ac
 ts 4.13-22\nGospel: John 5.17-24
CATEGORIES:Orthodox,Fasting,Liturgical
TRANSP:TRANSPARENT
STATUS:CONFIRMED
END:VEVENT
BEGIN:VEVENT
UID:20260423@orthodoxia.xyz
DTSTAMP:20260216T145845Z
DTSTART;VALUE=DATE:20260423
DTEND;VALUE=DATE:20260424
SUMMARY:☦️ Thursday of the 2nd Sunday of Pascha\n🥩 Fast Free
DESCRIPTION:☦️ Thursday of the 2nd Sunday of Pascha\n🥩 Fast Free\n\n
 🕊️ Today's Observance\nHoly Greatmartyr\, Victorybearer and Wonderwor
 ker George\n\n🍽️ What to Eat Today\nAll foods permitted. No fasting r
 estrictions today.\n\n📖 What to Read Today\nEpistle: Acts 4.23-31\nGosp
 el: John 5.24-30
CATEGORIES:Orthodox,Fasting,Liturgical
TRANSP:TRANSPARENT
STATUS:CONFIRMED
END:VEVENT
BEGIN:VEVENT
UID:20260424@orthodoxia.xyz
DTSTAMP:20260216T145845Z
DTSTART;VALUE=DATE:20260424
DTEND;VALUE=DATE:20260425
SUMMARY:☦️ Friday of the 2nd Sunday of Pascha\n🫒 Wine and Oil are Al
 lowed
DESCRIPTION:☦️ Friday of the 2nd Sunday of Pascha\n🫒 Wine and Oil ar
 e Allowed\n\n🕊️ Today's Observance\nMartyr Sabbas Stratelates\n\n🍽
 ️ What to Eat Today\nNo meat\, fish\, or dairy. Wine and oil permitted w
 ith vegetables\, fruits\, nuts\, legumes\, honey.\n\n📖 What to Read Tod
 ay\nEpistle: Acts 5.1-11\nGospel: John 5.30-6.2
CATEGORIES:Orthodox,Fasting,Liturgical
TRANSP:TRANSPARENT
STATUS:CONFIRMED
END:VEVENT
BEGIN:VEVENT
UID:20260425@orthodoxia.xyz
DTSTAMP:20260216T145845Z
DTSTART;VALUE=DATE:20260425
DTEND;VALUE=DATE:20260426
SUMMARY:☦️ Saturday of the 2nd Sunday of Pascha\n🥩 Fast Free
DESCRIPTION:☦️ Saturday of the 2nd Sunday of Pascha\n🥩 Fast Free\n\n
 🕊️ Today's Observance\nHoly Apostle and Evangelist Mark\nSaint Anania
 s\, Second Bishop of Alexandria\n\n🍽️ What to Eat Today\nAll foods pe
 rmitted. No fasting restrictions today.\n\n📖 What to Read Today\nEpistl
 e: Acts 5.21-33\nGospel: John 6.14-27
CATEGORIES:Orthodox,Fasting,Liturgical
TRANSP:TRANSPARENT
STATUS:CONFIRMED
END:VEVENT
BEGIN:VEVENT
UID:20260426@orthodoxia.xyz
DTSTAMP:20260216T145845Z
DTSTART;VALUE=DATE:20260426
DTEND;VALUE=DATE:20260427
SUMMARY:☦️ 3rd Sunday of Pascha\n🥩 Fast Free
DESCRIPTION:☦️ 3rd Sunday of Pascha\n🥩 Fast Free\n\n🕊️ Today's 
 Observance\nMyrrhbearing Women\nSt Stephen\, Bishop of Perm\nHieromartyr B
 asil\, bishop of Amasia and Righteous Virgin Glaphyra\n\n🍽️ What to E
 at Today\nAll foods permitted. No fasting restrictions today.\n\n📖 What
  to Read Today\nEpistle: Acts 6.1-7\nGospel: Mark 15.43-16.8
CATEGORIES:Orthodox,Fasting,Liturgical
TRANSP:TRANSPARENT
STATUS:CONFIRMED
END:VEVENT
END:VCALENDAR
